BEGIN:VCALENDAR
VERSION:2.0
PRODID:-//The 815 Artisan Collective - ECPv6.15.20//NONSGML v1.0//EN
CALSCALE:GREGORIAN
METHOD:PUBLISH
X-ORIGINAL-URL:https://the815artisancollective.com
X-WR-CALDESC:Events for The 815 Artisan Collective
REFRESH-INTERVAL;VALUE=DURATION:PT1H
X-Robots-Tag:noindex
X-PUBLISHED-TTL:PT1H
BEGIN:VTIMEZONE
TZID:America/Chicago
BEGIN:DAYLIGHT
TZOFFSETFROM:-0600
TZOFFSETTO:-0500
TZNAME:CDT
DTSTART:20250309T080000
END:DAYLIGHT
BEGIN:STANDARD
TZOFFSETFROM:-0500
TZOFFSETTO:-0600
TZNAME:CST
DTSTART:20251102T070000
END:STANDARD
BEGIN:DAYLIGHT
TZOFFSETFROM:-0600
TZOFFSETTO:-0500
TZNAME:CDT
DTSTART:20260308T080000
END:DAYLIGHT
BEGIN:STANDARD
TZOFFSETFROM:-0500
TZOFFSETTO:-0600
TZNAME:CST
DTSTART:20261101T070000
END:STANDARD
BEGIN:DAYLIGHT
TZOFFSETFROM:-0600
TZOFFSETTO:-0500
TZNAME:CDT
DTSTART:20270314T080000
END:DAYLIGHT
BEGIN:STANDARD
TZOFFSETFROM:-0500
TZOFFSETTO:-0600
TZNAME:CST
DTSTART:20271107T070000
END:STANDARD
END:VTIMEZONE
BEGIN:VEVENT
DTSTART;TZID=America/Chicago:20260604T120000
DTEND;TZID=America/Chicago:20260604T133000
DTSTAMP:20260421T083836
CREATED:20260407T165155Z
LAST-MODIFIED:20260407T165155Z
UID:2265-1780574400-1780579800@the815artisancollective.com
SUMMARY:Creative Hangouts: Make It Pop: Creative Decor
DESCRIPTION:Ready to level up your style? In Make It Pop\, teens will transform everyday items into bold\, personalized creations using fun and trendy crafting techniques. Each class features a different project designed to help you decorate and upgrade something just for you. One session might have you puff painting the cover of a journal\, another could involve sculpting a unique clay plant holder\, or designing a custom monogram piece for your wall. Along the way\, you’ll experiment with different materials\, textures\, and design ideas while learning creative techniques that make your projects stand out. This class is perfect for teens who love DIY\, decorating their space\, and expressing their personal style. With step-by-step guidance and plenty of room for creativity\, every student will leave with something fun\, unique\, and totally their own. All materials are included\, so just bring your creativity and get ready to make it pop! \nCreative Hangouts are relaxed\, social classes designed for tweens and teens who enjoy creating and connecting with others. These classes are generally geared toward ages 11 and up\, but we trust parents to decide what’s the best fit for their child. \nTo skip online fees\, you’re also welcome to sign up in-store\, or by emailing business@the815artisancollective.com or calling/texting the collective at 815-570-3815. We’re happy to accept payment directly through PayPal\, Venmo or Zelle.
URL:https://the815artisancollective.com/event/creative-hangouts-make-it-pop-creative-decor/
LOCATION:The 815 Artisan Collective\, 126 W Lincoln\, Belvidere\, IL\, 61008\, United States
END:VEVENT
BEGIN:VEVENT
DTSTART;TZID=America/Chicago:20260604T130000
DTEND;TZID=America/Chicago:20260604T153000
DTSTAMP:20260421T083836
CREATED:20260407T172036Z
LAST-MODIFIED:20260407T172036Z
UID:2287-1780578000-1780587000@the815artisancollective.com
SUMMARY:Creative Hangouts: Art Lab
DESCRIPTION:Calling all creative homeschool tweens and teens! Join us each month for Homeschool Art Lab\, a fun\, hands-on class where students explore new art techniques and create a unique project to take home. Each session features a brand-new project and creative medium\, giving students the chance to experiment with a wide variety of artistic skills throughout the year. Classes might explore faux stained glass\, air-dry clay sculpting\, painting\, mixed media\, and more. Step-by-step instruction helps students learn new skills while still allowing plenty of room for creativity and personal style. Because each month features a different project and technique\, students can attend regularly and continue building their creative skills over time. All materials are included\, so students can simply show up ready to create. \nCreative Hangouts are relaxed\, social classes designed for tweens and teens who enjoy creating and connecting with others. These classes are generally geared toward ages 11 and up\, but we trust parents to decide what’s the best fit for their child. \nTo skip online fees\, you’re also welcome to sign up in-store\, or by emailing business@the815artisancollective.com or calling/texting the collective at 815-570-3815. We’re happy to accept payment directly through PayPal\, Venmo or Zelle.
URL:https://the815artisancollective.com/event/creative-hangouts-art-lab-5/
LOCATION:The 815 Artisan Collective\, 126 W Lincoln\, Belvidere\, IL\, 61008\, United States
END:VEVENT
BEGIN:VEVENT
DTSTART;TZID=America/Chicago:20260604T140000
DTEND;TZID=America/Chicago:20260604T153000
DTSTAMP:20260421T083836
CREATED:20260407T162245Z
LAST-MODIFIED:20260407T162245Z
UID:2246-1780581600-1780587000@the815artisancollective.com
SUMMARY:Creative Hangouts: Stitch Squad: Crochet Blanket
DESCRIPTION:Calling all creative tweens and teens! Join us for a fun\, beginner-friendly crochet journey as you create your very own cozy 50″ x 60″ sampler blanket from start to finish. In this class\, students will learn 30 different crochet stitches over 15 sessions\, building skills one square at a time. Each class introduces new stitches and techniques while helping students grow more confident with their crochet skills. By the end of the course\, you’ll have a beautiful handmade blanket and the skills to keep creating on your own. This class is designed especially for tweens and teens who enjoy hands-on learning\, creativity\, and making something they can be proud of. Students will receive step-by-step guidance in a relaxed\, supportive environment while working at their own pace. No crochet experience? No problem! Absolute beginners are welcome\, but will need to attend one or two additional sessions so they feel comfortable with the basics. Students may attend any 15 sessions that fit their schedule\, receiving individualized help each time so they can confidently move through their project. Each student will choose from four curated colorway options to make their blanket uniquely theirs. All materials are included\, so just bring your creativity and get ready to stitch! \nCreative Hangouts are relaxed\, social classes designed for tweens and teens who enjoy creating and connecting with others. These classes are generally geared toward ages 11 and up\, but we trust parents to decide what’s the best fit for their child. \nTo skip online fees\, you’re also welcome to sign up in-store\, or by emailing business@the815artisancollective.com or calling/texting the collective at 815-570-3815. We’re happy to accept payment directly through PayPal\, Venmo or Zelle.
URL:https://the815artisancollective.com/event/creative-hangouts-stitch-squad-crochet-blanket/
LOCATION:The 815 Artisan Collective\, 126 W Lincoln\, Belvidere\, IL\, 61008\, United States
END:VEVENT
BEGIN:VEVENT
DTSTART;TZID=America/Chicago:20260605T110000
DTEND;TZID=America/Chicago:20260605T153000
DTSTAMP:20260421T083836
CREATED:20260407T162929Z
LAST-MODIFIED:20260407T162929Z
UID:2253-1780657200-1780673400@the815artisancollective.com
SUMMARY:Creative Hangouts: Open Craft Studio
DESCRIPTION:Grab a seat at the craft table and let your creativity take over! Tween & Teen Open Craft Lab is a relaxed\, come-as-you-are creative time where young makers can bring any project they’re working on and enjoy crafting alongside friends. Whether you’re crocheting\, drawing\, painting\, making bracelets\, sewing\, or working on another creative project\, this is a welcoming space to create\, chat\, and share ideas with other crafty tweens and teens. There’s no formal instruction—just a supportive environment filled with creativity and inspiration. Don’t have a project to bring? No problem! We’ll have a variety of craft kits and projects available for purchase in the classroom\, so you can jump right in and start making. Come hang out\, get creative\, and enjoy time with fellow young makers at the collective! \nCreative Hangouts are relaxed\, social classes designed for tweens and teens who enjoy creating and connecting with others. These classes are generally geared toward ages 11 and up\, but we trust parents to decide what’s the best fit for their child. \nTo skip online fees\, you’re also welcome to sign up in-store\, or by emailing business@the815artisancollective.com or calling/texting the collective at 815-570-3815. We’re happy to accept payment directly through PayPal\, Venmo or Zelle.
URL:https://the815artisancollective.com/event/creative-hangouts-open-craft-studio/
LOCATION:The 815 Artisan Collective\, 126 W Lincoln\, Belvidere\, IL\, 61008\, United States
END:VEVENT
BEGIN:VEVENT
DTSTART;TZID=America/Chicago:20260605T160000
DTEND;TZID=America/Chicago:20260605T200000
DTSTAMP:20260421T083836
CREATED:20260407T155821Z
LAST-MODIFIED:20260407T155821Z
UID:2229-1780675200-1780689600@the815artisancollective.com
SUMMARY:Friday Night Fun: Family Craft Night
DESCRIPTION:Family Craft Night is an open\, creative evening for kids and adults to make together—or work on their own projects side by side. This open craft time is designed to be relaxed and flexible\, so families can drop in\, take breaks\, and enjoy creating at their own pace. Participants are welcome to bring their own projects from home or choose from a selection of curated craft kits available for purchase and designed by one of our instructors. Whether you’re painting\, stitching\, building\, or trying something new\, this is a space to connect\, create\, and spend meaningful time together. All ages and skill levels are welcome. \nTo skip online fees\, you’re also welcome to sign up in-store\, or by emailing business@the815artisancollective.com or calling/texting the collective at 815-570-3815. We’re happy to accept payment directly through PayPal\, Venmo or Zelle.
URL:https://the815artisancollective.com/event/friday-night-fun-family-craft-night/
LOCATION:The 815 Artisan Collective\, 126 W Lincoln\, Belvidere\, IL\, 61008\, United States
END:VEVENT
BEGIN:VEVENT
DTSTART;TZID=America/Chicago:20260611T140000
DTEND;TZID=America/Chicago:20260611T153000
DTSTAMP:20260421T083836
CREATED:20260407T151547Z
LAST-MODIFIED:20260407T151547Z
UID:2202-1781186400-1781191800@the815artisancollective.com
SUMMARY:Creative Hangouts: Stitch Squad: Modern Embroidery
DESCRIPTION:Perfect for creative tweens and teens\, this beginner-friendly class introduces students to the relaxing and artistic world of modern embroidery. Students will learn how to transform simple thread and fabric into beautiful stitched designs while exploring a variety of embroidery stitches and techniques. Throughout the class\, students will practice foundational stitches\, learn how to follow patterns\, transfer designs\, and combine stitches to create unique textures and artwork. Each student will complete a modern embroidery project while gaining the skills needed to continue creating their own designs at home. This class is designed with tweens and teens in mind\, offering a calm\, creative space where students can focus\, learn new skills\, and express their creativity. Step-by-step instruction and individual guidance help every student feel confident as they stitch. All materials are included\, so students can simply show up ready to create. \nCreative Hangouts are relaxed\, social classes designed for tweens and teens who enjoy creating and connecting with others. These classes are generally geared toward ages 11 and up\, but we trust parents to decide what’s the best fit for their child. \nTo skip online fees\, you’re also welcome to sign up in-store\, or by emailing business@the815artisancollective.com or calling/texting the collective at 815-570-3815. We’re happy to accept payment directly through PayPal\, Venmo or Zelle.
URL:https://the815artisancollective.com/event/creative-hangouts-stitch-squad-modern-embroidery/
LOCATION:The 815 Artisan Collective\, 126 W Lincoln\, Belvidere\, IL\, 61008\, United States
END:VEVENT
BEGIN:VEVENT
DTSTART;TZID=America/Chicago:20260611T160000
DTEND;TZID=America/Chicago:20260611T173000
DTSTAMP:20260421T083836
CREATED:20260407T151921Z
LAST-MODIFIED:20260407T151921Z
UID:2205-1781193600-1781199000@the815artisancollective.com
SUMMARY:Creative Hangouts: Stitch Squad: Stuffies
DESCRIPTION:Calling all creative tweens and teens! In Homeschool Stitch Squad: Stuffies\, students will learn how to crochet their own adorable plush creations while building confidence with crochet techniques. Each project focuses on creating a fun stuffed character while practicing skills like shaping\, increasing\, decreasing\, and assembling pieces. This class is perfect for tweens and teens who already know the basics of crochet and are ready to level up their skills while making something cute and cuddly. Step-by-step guidance helps students work through each pattern while learning tips and techniques that will help them tackle future crochet projects. All materials are included\, and students will leave with a handmade stuffed creation they can keep or gift. \nCreative Hangouts are relaxed\, social classes designed for tweens and teens who enjoy creating and connecting with others. These classes are generally geared toward ages 11 and up\, but we trust parents to decide what’s the best fit for their child. \nTo skip online fees\, you’re also welcome to sign up in-store\, or by emailing business@the815artisancollective.com or calling/texting the collective at 815-570-3815. We’re happy to accept payment directly through PayPal\, Venmo or Zelle.
URL:https://the815artisancollective.com/event/creative-hangouts-stitch-squad-stuffies/
LOCATION:The 815 Artisan Collective\, 126 W Lincoln\, Belvidere\, IL\, 61008\, United States
END:VEVENT
BEGIN:VEVENT
DTSTART;TZID=America/Chicago:20260612T120000
DTEND;TZID=America/Chicago:20260612T210000
DTSTAMP:20260421T083836
CREATED:20260407T154054Z
LAST-MODIFIED:20260407T154054Z
UID:2218-1781265600-1781298000@the815artisancollective.com
SUMMARY:Friday Night Fun: Adult Craft Night
DESCRIPTION:Spend an afternoon and evening creating and connecting at our Adult Crafting Night at the collective. This come-as-you-are gathering is all about community—bring any project you’re currently working on\, whether it’s sewing\, knitting\, painting\, paper crafts\, or something else you love. Dinner is included to keep things easy\, just bring your own drinks and settle in for a relaxed\, welcoming night of conversation\, creativity\, and time spent with fellow makers. No instruction\, no pressure—just a shared table\, good food\, and meaningful connection. \nTo skip online fees\, you’re also welcome to sign up in-store\, or by emailing business@the815artisancollective.com or calling/texting the collective at 815-570-3815. We’re happy to accept payment directly through PayPal\, Venmo or Zelle.
URL:https://the815artisancollective.com/event/friday-night-fun-adult-craft-night/
LOCATION:The 815 Artisan Collective\, 126 W Lincoln\, Belvidere\, IL\, 61008\, United States
END:VEVENT
BEGIN:VEVENT
DTSTART;TZID=America/Chicago:20260616T180000
DTEND;TZID=America/Chicago:20260616T193000
DTSTAMP:20260421T083836
CREATED:20260407T153331Z
LAST-MODIFIED:20260407T153422Z
UID:2213-1781632800-1781638200@the815artisancollective.com
SUMMARY:Creative Hangouts: Weaving Studio
DESCRIPTION:Perfect for creative tweens and teens\, this hands-on fiber arts class introduces students to the relaxing and creative world of weaving. Each session focuses on a new weaving technique while guiding students through the process of creating a unique finished project. Students will explore a variety of weaving styles and materials while making different items such as wall hangings\, coasters\, small tapestries\, bookmarks\, and other woven pieces. As they progress\, they’ll learn how to combine textures\, colors\, and patterns while building their confidence and fiber art skills. This class is designed especially for homeschool tweens and teens who enjoy hands-on creativity and learning new artistic techniques. Step-by-step instruction and individual guidance allow each student to grow their skills while working at their own pace. Because every session features a new project and technique\, students can attend regularly and continue building their weaving knowledge over time. All materials are included\, and students will leave each class with a finished woven project they created themselves. \nCreative Hangouts are relaxed\, social classes designed for tweens and teens who enjoy creating and connecting with others. These classes are generally geared toward ages 11 and up\, but we trust parents to decide what’s the best fit for their child. \nTo skip online fees\, you’re also welcome to sign up in-store\, or by emailing business@the815artisancollective.com or calling/texting the collective at 815-570-3815. We’re happy to accept payment directly through PayPal\, Venmo or Zelle.
URL:https://the815artisancollective.com/event/creative-hangouts-weaving-studio-2/
LOCATION:The 815 Artisan Collective\, 126 W Lincoln\, Belvidere\, IL\, 61008\, United States
END:VEVENT
BEGIN:VEVENT
DTSTART;TZID=America/Chicago:20260618T140000
DTEND;TZID=America/Chicago:20260618T153000
DTSTAMP:20260421T083836
CREATED:20260407T162524Z
LAST-MODIFIED:20260407T162524Z
UID:2250-1781791200-1781796600@the815artisancollective.com
SUMMARY:Creative Hangouts: Stitch Squad: Crochet Blanket
DESCRIPTION:Calling all creative tweens and teens! Join us for a fun\, beginner-friendly crochet journey as you create your very own cozy 50″ x 60″ sampler blanket from start to finish. In this class\, students will learn 30 different crochet stitches over 15 sessions\, building skills one square at a time. Each class introduces new stitches and techniques while helping students grow more confident with their crochet skills. By the end of the course\, you’ll have a beautiful handmade blanket and the skills to keep creating on your own. This class is designed especially for tweens and teens who enjoy hands-on learning\, creativity\, and making something they can be proud of. Students will receive step-by-step guidance in a relaxed\, supportive environment while working at their own pace. No crochet experience? No problem! Absolute beginners are welcome\, but will need to attend one or two additional sessions so they feel comfortable with the basics. Students may attend any 15 sessions that fit their schedule\, receiving individualized help each time so they can confidently move through their project. Each student will choose from four curated colorway options to make their blanket uniquely theirs. All materials are included\, so just bring your creativity and get ready to stitch! \nCreative Hangouts are relaxed\, social classes designed for tweens and teens who enjoy creating and connecting with others. These classes are generally geared toward ages 11 and up\, but we trust parents to decide what’s the best fit for their child. \nTo skip online fees\, you’re also welcome to sign up in-store\, or by emailing business@the815artisancollective.com or calling/texting the collective at 815-570-3815. We’re happy to accept payment directly through PayPal\, Venmo or Zelle.
URL:https://the815artisancollective.com/event/creative-hangouts-stitch-squad-crochet-blanket-2/
LOCATION:The 815 Artisan Collective\, 126 W Lincoln\, Belvidere\, IL\, 61008\, United States
END:VEVENT
BEGIN:VEVENT
DTSTART;TZID=America/Chicago:20260619T170000
DTEND;TZID=America/Chicago:20260619T220000
DTSTAMP:20260421T083836
CREATED:20260407T160826Z
LAST-MODIFIED:20260407T160826Z
UID:2237-1781888400-1781906400@the815artisancollective.com
SUMMARY:Friday Night Fun: Family Game Night
DESCRIPTION:Unplug\, unwind\, and enjoy a night of laughter and friendly competition at our Adult Board Game Night at the collective. This relaxed\, come-as-you-are evening is designed just for grown-ups to gather around the table\, connect\, and have fun. Bring your favorite game from home or choose from a variety of board and card games from our library—whether you love strategy\, party games\, classic favorites\, or something new to learn. Feel free to bring your own drinks\, and settle in for a low-pressure night of conversation\, connection\, and just the right amount of competitive fun. No experience needed—just come ready to play. \nTo skip online fees\, you’re also welcome to sign up in-store\, or by emailing business@the815artisancollective.com or calling/texting the collective at 815-570-3815. We’re happy to accept payment directly through PayPal\, Venmo or Zelle.
URL:https://the815artisancollective.com/event/friday-night-fun-family-game-night/
LOCATION:The 815 Artisan Collective\, 126 W Lincoln\, Belvidere\, IL\, 61008\, United States
END:VEVENT
BEGIN:VEVENT
DTSTART;TZID=America/Chicago:20260625T130000
DTEND;TZID=America/Chicago:20260625T153000
DTSTAMP:20260421T083836
CREATED:20260407T171536Z
LAST-MODIFIED:20260407T171536Z
UID:2281-1782392400-1782401400@the815artisancollective.com
SUMMARY:Creative Hangouts: Art Lab
DESCRIPTION:Calling all creative homeschool tweens and teens! Join us each month for Homeschool Art Lab\, a fun\, hands-on class where students explore new art techniques and create a unique project to take home. Each session features a brand-new project and creative medium\, giving students the chance to experiment with a wide variety of artistic skills throughout the year. Classes might explore faux stained glass\, air-dry clay sculpting\, painting\, mixed media\, and more. Step-by-step instruction helps students learn new skills while still allowing plenty of room for creativity and personal style. Because each month features a different project and technique\, students can attend regularly and continue building their creative skills over time. All materials are included\, so students can simply show up ready to create. \nCreative Hangouts are relaxed\, social classes designed for tweens and teens who enjoy creating and connecting with others. These classes are generally geared toward ages 11 and up\, but we trust parents to decide what’s the best fit for their child. \nTo skip online fees\, you’re also welcome to sign up in-store\, or by emailing business@the815artisancollective.com or calling/texting the collective at 815-570-3815. We’re happy to accept payment directly through PayPal\, Venmo or Zelle.
URL:https://the815artisancollective.com/event/creative-hangouts-art-lab-3/
LOCATION:The 815 Artisan Collective\, 126 W Lincoln\, Belvidere\, IL\, 61008\, United States
END:VEVENT
BEGIN:VEVENT
DTSTART;TZID=America/Chicago:20260626T130000
DTEND;TZID=America/Chicago:20260626T143000
DTSTAMP:20260421T083836
CREATED:20260407T163847Z
LAST-MODIFIED:20260407T163847Z
UID:2260-1782478800-1782484200@the815artisancollective.com
SUMMARY:Creative Hangouts: Square Knot Society
DESCRIPTION:Get creative while learning the art of decorative knots in this fun fiber arts class designed for tweens and teens! In this hands-on class\, students will explore both macramé and friendship bracelet techniques while creating a new project in each session. Students will learn foundational knotting techniques and gradually build their skills as they make a variety of projects such as friendship bracelets\, keychains\, plant hangers\, wall hangings\, and other knot-based creations. Each class introduces new knots\, patterns\, and design ideas so students can continue growing their skills and creativity. This class is perfect for tweens and teens who enjoy hands-on crafting\, working with color and texture\, and creating items they can wear\, gift\, or decorate their space with. Step-by-step instruction and individual guidance help each student build confidence as they learn new techniques. Because every session features a different project and new knotting skills\, students can attend regularly and continue expanding their creative abilities. All materials are included\, and students will leave each class with a project they made themselves. \nCreative Hangouts are relaxed\, social classes designed for tweens and teens who enjoy creating and connecting with others. These classes are generally geared toward ages 11 and up\, but we trust parents to decide what’s the best fit for their child. \nTo skip online fees\, you’re also welcome to sign up in-store\, or by emailing business@the815artisancollective.com or calling/texting the collective at 815-570-3815. We’re happy to accept payment directly through PayPal\, Venmo or Zelle.
URL:https://the815artisancollective.com/event/creative-hangouts-square-knot-society/
LOCATION:The 815 Artisan Collective\, 126 W Lincoln\, Belvidere\, IL\, 61008\, United States
END:VEVENT
BEGIN:VEVENT
DTSTART;TZID=America/Chicago:20260626T150000
DTEND;TZID=America/Chicago:20260626T163000
DTSTAMP:20260421T083836
CREATED:20260407T170021Z
LAST-MODIFIED:20260407T170105Z
UID:2272-1782486000-1782491400@the815artisancollective.com
SUMMARY:Creative Hangouts: Decoupage & Drip
DESCRIPTION:Let your creativity shine in this fun and hands-on decorative arts class designed just for tweens and teens! In this class\, students will explore the art of modern decoupage and decorative painting while transforming everyday objects into beautiful\, personalized pieces. Each student will choose a base item such as a trinket dish\, vase\, bowl\, or other decorative piece and then combine paint\, patterned papers\, and layering techniques to create a one-of-a-kind design. Along the way\, students will learn the basics of decoupage\, painting techniques\, sealing finishes\, and how to combine colors and patterns for a polished look. Step-by-step instruction and individual guidance ensure that every student can create something they’re proud of. All materials are included\, and students will leave with a finished decorative piece to take home. \nCreative Hangouts are relaxed\, social classes designed for tweens and teens who enjoy creating and connecting with others. These classes are generally geared toward ages 11 and up\, but we trust parents to decide what’s the best fit for their child. \nTo skip online fees\, you’re also welcome to sign up in-store\, or by emailing business@the815artisancollective.com or calling/texting the collective at 815-570-3815. We’re happy to accept payment directly through PayPal\, Venmo or Zelle.
URL:https://the815artisancollective.com/event/creative-hangouts-decoupage-drip/
LOCATION:The 815 Artisan Collective\, 126 W Lincoln\, Belvidere\, IL\, 61008\, United States
END:VEVENT
BEGIN:VEVENT
DTSTART;TZID=America/Chicago:20260626T170000
DTEND;TZID=America/Chicago:20260626T220000
DTSTAMP:20260421T083836
CREATED:20260407T155156Z
LAST-MODIFIED:20260407T155156Z
UID:2224-1782493200-1782511200@the815artisancollective.com
SUMMARY:Friday Night Fun: Adult Game Night
DESCRIPTION:Unplug\, unwind\, and enjoy a night of laughter and friendly competition at our Adult Board Game Night at the collective. This relaxed\, come-as-you-are evening is designed just for grown-ups to gather around the table\, connect\, and have fun. Bring your favorite game from home or choose from a variety of board and card games from our library—whether you love strategy\, party games\, classic favorites\, or something new to learn. Feel free to bring your own drinks\, and settle in for a low-pressure night of conversation\, connection\, and just the right amount of competitive fun. No experience needed—just come ready to play. \nTo skip online fees\, you’re also welcome to sign up in-store\, or by emailing business@the815artisancollective.com or calling/texting the collective at 815-570-3815. We’re happy to accept payment directly through PayPal\, Venmo or Zelle.
URL:https://the815artisancollective.com/event/friday-night-fun-adult-game-night/
LOCATION:The 815 Artisan Collective\, 126 W Lincoln\, Belvidere\, IL\, 61008\, United States
END:VEVENT
END:VCALENDAR