BEGIN:VCALENDAR
VERSION:2.0
PRODID:-//The 815 Artisan Collective - ECPv6.15.20//NONSGML v1.0//EN
CALSCALE:GREGORIAN
METHOD:PUBLISH
X-WR-CALNAME:The 815 Artisan Collective
X-ORIGINAL-URL:https://the815artisancollective.com
X-WR-CALDESC:Events for The 815 Artisan Collective
REFRESH-INTERVAL;VALUE=DURATION:PT1H
X-Robots-Tag:noindex
X-PUBLISHED-TTL:PT1H
BEGIN:VTIMEZONE
TZID:America/Chicago
BEGIN:DAYLIGHT
TZOFFSETFROM:-0600
TZOFFSETTO:-0500
TZNAME:CDT
DTSTART:20250309T080000
END:DAYLIGHT
BEGIN:STANDARD
TZOFFSETFROM:-0500
TZOFFSETTO:-0600
TZNAME:CST
DTSTART:20251102T070000
END:STANDARD
BEGIN:DAYLIGHT
TZOFFSETFROM:-0600
TZOFFSETTO:-0500
TZNAME:CDT
DTSTART:20260308T080000
END:DAYLIGHT
BEGIN:STANDARD
TZOFFSETFROM:-0500
TZOFFSETTO:-0600
TZNAME:CST
DTSTART:20261101T070000
END:STANDARD
BEGIN:DAYLIGHT
TZOFFSETFROM:-0600
TZOFFSETTO:-0500
TZNAME:CDT
DTSTART:20270314T080000
END:DAYLIGHT
BEGIN:STANDARD
TZOFFSETFROM:-0500
TZOFFSETTO:-0600
TZNAME:CST
DTSTART:20271107T070000
END:STANDARD
END:VTIMEZONE
BEGIN:VEVENT
DTSTART;TZID=America/Chicago:20260423T130000
DTEND;TZID=America/Chicago:20260423T153000
DTSTAMP:20260423T045435
CREATED:20260407T170859Z
LAST-MODIFIED:20260407T170859Z
UID:2275-1776949200-1776958200@the815artisancollective.com
SUMMARY:Creative Hangouts: Art Lab
DESCRIPTION:Calling all creative homeschool tweens and teens! Join us each month for Homeschool Art Lab\, a fun\, hands-on class where students explore new art techniques and create a unique project to take home. Each session features a brand-new project and creative medium\, giving students the chance to experiment with a wide variety of artistic skills throughout the year. Classes might explore faux stained glass\, air-dry clay sculpting\, painting\, mixed media\, and more. Step-by-step instruction helps students learn new skills while still allowing plenty of room for creativity and personal style. Because each month features a different project and technique\, students can attend regularly and continue building their creative skills over time. All materials are included\, so students can simply show up ready to create. \nCreative Hangouts are relaxed\, social classes designed for tweens and teens who enjoy creating and connecting with others. These classes are generally geared toward ages 11 and up\, but we trust parents to decide what’s the best fit for their child. \nTo skip online fees\, you’re also welcome to sign up in-store\, or by emailing business@the815artisancollective.com or calling/texting the collective at 815-570-3815. We’re happy to accept payment directly through PayPal\, Venmo or Zelle.
URL:https://the815artisancollective.com/event/creative-hangouts-art-lab/
LOCATION:The 815 Artisan Collective\, 126 W Lincoln\, Belvidere\, IL\, 61008\, United States
END:VEVENT
BEGIN:VEVENT
DTSTART;TZID=America/Chicago:20260423T160000
DTEND;TZID=America/Chicago:20260423T180000
DTSTAMP:20260423T045435
CREATED:20260320T223422Z
LAST-MODIFIED:20260329T190054Z
UID:1825-1776960000-1776967200@the815artisancollective.com
SUMMARY:Modern Crochet Afghan Sampler
DESCRIPTION:Join us for a creative and cozy journey in our Modern Crochet Afghan Sampler class! Over the course of 10 sessions (offered twice a month)\, you’ll create a stunning 50” x 60” sampler afghan while learning 30 beautiful crochet stitches that range from classic textures to modern designs. This class is designed for those who have a few crochet projects under their belt. Attend any 10 sessions that work for your schedule\, and receive individualized guidance each time so you can move confidently through your pattern at your own pace. You’ll choose from four thoughtfully curated\, customizable colorway options to make your afghan uniquely yours. All materials are included with your registration\, so you can simply show up ready to stitch. Need extra support between sessions? You’re welcome to attend Cozy Stitch Club for additional help and encouragement along the way. By the end of this series\, you’ll walk away with a gorgeous heirloom-quality afghan and a strong understanding of 30 stitches you can use in countless future projects. \nTo skip online fees\, you’re also welcome to sign up in-store\, or by emailing business@the815artisancollective.com or calling/texting the collective at 815-570-3815. We’re happy to accept payment directly through PayPal\, Venmo or Zelle.
URL:https://the815artisancollective.com/event/modern-crochet-afghan-sampler-4-25/
LOCATION:The 815 Artisan Collective\, 126 W Lincoln\, Belvidere\, IL\, 61008\, United States
END:VEVENT
BEGIN:VEVENT
DTSTART;TZID=America/Chicago:20260423T180000
DTEND;TZID=America/Chicago:20260423T200000
DTSTAMP:20260423T045435
CREATED:20260320T222836Z
LAST-MODIFIED:20260329T190030Z
UID:1821-1776967200-1776974400@the815artisancollective.com
SUMMARY:Beginner Crochet Stuffie
DESCRIPTION:Join us for a cozy and creative Beginner Crochet Stuffy Making Class\, where yarn\, imagination\, and community come together. In this hands-on workshop\, you’ll learn how to transform simple stitches into an adorable handmade stuffie you can proudly take home. We’ll walk through the basics of shaping\, increasing and decreasing\, stuffing\, and finishing techniques\, all in a supportive\, encouraging environment. Participants should be comfortable with basic crocheting. More than just a class\, this is a space to gather\, connect\, and create alongside fellow makers. Whether you come with a friend or arrive solo\, you’ll leave not only with a sweet handmade stuffie\, but with new skills\, new confidence\, and new connections within our creative community. \nTo skip online fees\, you’re also welcome to sign up in-store\, or by emailing business@the815artisancollective.com or calling/texting the collective at 815-570-3815. We’re happy to accept payment directly through PayPal\, Venmo or Zelle.
URL:https://the815artisancollective.com/event/beginner-crochet-stuffie-4-23/
LOCATION:The 815 Artisan Collective\, 126 W Lincoln\, Belvidere\, IL\, 61008\, United States
END:VEVENT
END:VCALENDAR