BEGIN:VCALENDAR
VERSION:2.0
PRODID:-//The 815 Artisan Collective - ECPv6.15.20//NONSGML v1.0//EN
CALSCALE:GREGORIAN
METHOD:PUBLISH
X-WR-CALNAME:The 815 Artisan Collective
X-ORIGINAL-URL:https://the815artisancollective.com
X-WR-CALDESC:Events for The 815 Artisan Collective
REFRESH-INTERVAL;VALUE=DURATION:PT1H
X-Robots-Tag:noindex
X-PUBLISHED-TTL:PT1H
BEGIN:VTIMEZONE
TZID:America/Chicago
BEGIN:DAYLIGHT
TZOFFSETFROM:-0600
TZOFFSETTO:-0500
TZNAME:CDT
DTSTART:20250309T080000
END:DAYLIGHT
BEGIN:STANDARD
TZOFFSETFROM:-0500
TZOFFSETTO:-0600
TZNAME:CST
DTSTART:20251102T070000
END:STANDARD
BEGIN:DAYLIGHT
TZOFFSETFROM:-0600
TZOFFSETTO:-0500
TZNAME:CDT
DTSTART:20260308T080000
END:DAYLIGHT
BEGIN:STANDARD
TZOFFSETFROM:-0500
TZOFFSETTO:-0600
TZNAME:CST
DTSTART:20261101T070000
END:STANDARD
BEGIN:DAYLIGHT
TZOFFSETFROM:-0600
TZOFFSETTO:-0500
TZNAME:CDT
DTSTART:20270314T080000
END:DAYLIGHT
BEGIN:STANDARD
TZOFFSETFROM:-0500
TZOFFSETTO:-0600
TZNAME:CST
DTSTART:20271107T070000
END:STANDARD
END:VTIMEZONE
BEGIN:VEVENT
DTSTART;TZID=America/Chicago:20260421T130000
DTEND;TZID=America/Chicago:20260421T150000
DTSTAMP:20260421T065747
CREATED:20260402T171838Z
LAST-MODIFIED:20260402T171838Z
UID:1990-1776776400-1776783600@the815artisancollective.com
SUMMARY:Zentangle
DESCRIPTION:Slow down\, relax\, and discover the joy of mindful drawing in this beginner-friendly Zentangle class. The Zentangle Method is an easy-to-learn\, relaxing\, and fun way to create beautiful images using simple\, structured patterns called “tangles.” \nTo skip online fees\, you’re also welcome to sign up in-store\, or by emailing business@the815artisancollective.com or calling/texting the collective at 815-570-3815. We’re happy to accept payment directly through PayPal\, Venmo or Zelle.
URL:https://the815artisancollective.com/event/zentangle-2/
LOCATION:The 815 Artisan Collective\, 126 W Lincoln\, Belvidere\, IL\, 61008\, United States
END:VEVENT
BEGIN:VEVENT
DTSTART;TZID=America/Chicago:20260421T160000
DTEND;TZID=America/Chicago:20260421T173000
DTSTAMP:20260421T065747
CREATED:20260223T205728Z
LAST-MODIFIED:20260329T190250Z
UID:907-1776787200-1776792600@the815artisancollective.com
SUMMARY:Friendship Bracelet Fun
DESCRIPTION:Friendship Bracelet Fun is a hands-on\, creative class where kids ages 8 and up will learn how to make colorful friendship bracelets while building confidence and having fun. In each session\, students will learn a different bracelet style or technique and leave with a completed bracelet (or with the knowledge on how to finish it) to take home and show off. This class is perfect for beginners and returning makers alike. We’ll cover basic knotting\, patterns\, color selection\, and simple design skills in a relaxed\, encouraging environment. All materials are provided—just bring creativity and a love for making! \n  \nTo skip online fees\, you’re also welcome to sign up in-store\, or by emailing business@the815artisancollective.com or calling/texting the collective at 815-570-3815. We’re happy to accept payment directly through PayPal\, Venmo or Zelle.
URL:https://the815artisancollective.com/event/friendship-bracelet-fun/
LOCATION:The 815 Artisan Collective\, 126 W Lincoln\, Belvidere\, IL\, 61008\, United States
END:VEVENT
BEGIN:VEVENT
DTSTART;TZID=America/Chicago:20260421T180000
DTEND;TZID=America/Chicago:20260421T193000
DTSTAMP:20260421T065747
CREATED:20260407T152223Z
LAST-MODIFIED:20260407T152223Z
UID:2208-1776794400-1776799800@the815artisancollective.com
SUMMARY:Creative Hangouts: Weaving Studio
DESCRIPTION:Perfect for creative tweens and teens\, this hands-on fiber arts class introduces students to the relaxing and creative world of weaving. Each session focuses on a new weaving technique while guiding students through the process of creating a unique finished project. Students will explore a variety of weaving styles and materials while making different items such as wall hangings\, coasters\, small tapestries\, bookmarks\, and other woven pieces. As they progress\, they’ll learn how to combine textures\, colors\, and patterns while building their confidence and fiber art skills. This class is designed especially for homeschool tweens and teens who enjoy hands-on creativity and learning new artistic techniques. Step-by-step instruction and individual guidance allow each student to grow their skills while working at their own pace. Because every session features a new project and technique\, students can attend regularly and continue building their weaving knowledge over time. All materials are included\, and students will leave each class with a finished woven project they created themselves. \nCreative Hangouts are relaxed\, social classes designed for tweens and teens who enjoy creating and connecting with others. These classes are generally geared toward ages 11 and up\, but we trust parents to decide what’s the best fit for their child. \nTo skip online fees\, you’re also welcome to sign up in-store\, or by emailing business@the815artisancollective.com or calling/texting the collective at 815-570-3815. We’re happy to accept payment directly through PayPal\, Venmo or Zelle.
URL:https://the815artisancollective.com/event/creative-hangouts-weaving-studio/
LOCATION:The 815 Artisan Collective\, 126 W Lincoln\, Belvidere\, IL\, 61008\, United States
END:VEVENT
END:VCALENDAR